BEGIN:VCALENDAR
X-LOTUS-CHARSET:UTF-8
VERSION:2.0
PRODID:Gasteinertal.com
BEGIN:VTIMEZONE
TZID:Europe/Vienna
X-LIC-LOCATION:Europe/Vienna
BEGIN:DAYLIGHT
TZOFFSETFROM:+0100
TZOFFSETTO:+0200
TZNAME:CEST
DTSTART:19700329T020000
END:DAYLIGHT
BEGIN:STANDARD
TZOFFSETFROM:+0200
TZOFFSETTO:+0100
TZNAME:CET
DTSTART:19701025T030000
END:STANDARD
END:VTIMEZONE
METHOD:REQUEST
BEGIN:VEVENT
UID:ics.gasteinertal.2311
CLASS:PUBLIC
DTSTART;TZID=Europe/Vienna:20260510T000000
DTEND;TZID=Europe/Vienna:20260510T235900
LOCATION:Grillparzerstraße 1
5640 Bad Gastein
SUMMARY:Muttertagsbrunch im Ritz Restaurant/Hotel Salzburger Hof
DESCRIPTION:Mehr Infos auf https://www.gasteinertal.com/muttertagsbrunch-im-ritz-restaurant-hotel-salzburger-hof/\n
END:VEVENT
END:VCALENDAR
